BEGIN:VCALENDAR
VERSION:2.0
PRODID:icalendar-ruby
CALSCALE:GREGORIAN
METHOD:PUBLISH
BEGIN:VEVENT
DTSTAMP:20260422T155435Z
UID:9-336890@shilohchurchofchrist.net
DTSTART:20260823T183000Z
DTEND:20260823T193000Z
CLASS:PUBLIC
CREATED:20260422T104527
DESCRIPTION:Our Sunday afternoon worship begins with songs of praise to our
  Lord followed by another great message.
LAST-MODIFIED:20260422T104527
LOCATION:Shiloh Church of Christ
SUMMARY:Sunday Afternoon Worship
URL;VALUE=URI:https://www.shilohchurchofchrist.net/events/sunday-afternoon-
 worship/2026-08-23
END:VEVENT
END:VCALENDAR
