BEGIN:VCALENDAR
VERSION:2.0
PRODID:icalendar-ruby
CALSCALE:GREGORIAN
METHOD:PUBLISH
BEGIN:VEVENT
DTSTAMP:20260424T115628Z
UID:9-339031@shilohchurchofchrist.net
DTSTART:20260927T183000Z
DTEND:20260927T193000Z
CLASS:PUBLIC
CREATED:20260423T222311
DESCRIPTION:Our Sunday afternoon worship begins with songs of praise to our
  Lord followed by another great message.
LAST-MODIFIED:20260423T222311
LOCATION:Shiloh Church of Christ
SUMMARY:Sunday Afternoon Worship
URL;VALUE=URI:https://www.shilohchurchofchrist.net/events/sunday-afternoon-
 worship/2026-09-27
END:VEVENT
END:VCALENDAR
