BEGIN:VCALENDAR
VERSION:2.0
PRODID:icalendar-ruby
CALSCALE:GREGORIAN
METHOD:PUBLISH
BEGIN:VEVENT
DTSTAMP:20260424T135244Z
UID:9-339246@shilohchurchofchrist.net
DTSTART:20261004T183000Z
DTEND:20261004T193000Z
CLASS:PUBLIC
CREATED:20260424T075112
DESCRIPTION:Our Sunday afternoon worship begins with songs of praise to our
  Lord followed by another great message.
LAST-MODIFIED:20260424T075112
LOCATION:Shiloh Church of Christ
SUMMARY:Sunday Afternoon Worship
URL;VALUE=URI:https://www.shilohchurchofchrist.net/events/sunday-afternoon-
 worship/2026-10-04
END:VEVENT
END:VCALENDAR
