BEGIN:VCALENDAR
VERSION:2.0
PRODID:icalendar-ruby
CALSCALE:GREGORIAN
METHOD:PUBLISH
BEGIN:VEVENT
DTSTAMP:20260422T104856Z
UID:10-336518@shilohchurchofchrist.net
DTSTART:20260812T233000Z
DTEND:20260813T003000Z
CLASS:PUBLIC
CREATED:20260421T204114
DESCRIPTION:This is one of two mid-week bible studies we have.  The other 
 is on Wednesday morning at 10:00am.
LAST-MODIFIED:20260421T204114
LOCATION:Shiloh Church of Christ
SUMMARY:Wednesday Evening Bible Study
URL;VALUE=URI:https://www.shilohchurchofchrist.net/events/wednesday-evening
 -bible-study/2026-08-12
END:VEVENT
END:VCALENDAR
