BEGIN:VCALENDAR
VERSION:2.0
PRODID:icalendar-ruby
CALSCALE:GREGORIAN
METHOD:PUBLISH
BEGIN:VEVENT
DTSTAMP:20260422T222810Z
UID:10-337375@shilohchurchofchrist.net
DTSTART:20260930T233000Z
DTEND:20261001T003000Z
CLASS:PUBLIC
CREATED:20260422T163530
DESCRIPTION:This is one of two mid-week bible studies we have.  The other 
 is on Wednesday morning at 10:00am.
LAST-MODIFIED:20260422T163530
LOCATION:Shiloh Church of Christ
SUMMARY:Wednesday Evening Bible Study
URL;VALUE=URI:https://www.shilohchurchofchrist.net/events/wednesday-evening
 -bible-study/2026-09-30
END:VEVENT
END:VCALENDAR
