BEGIN:VCALENDAR
VERSION:2.0
PRODID:icalendar-ruby
CALSCALE:GREGORIAN
METHOD:PUBLISH
BEGIN:VEVENT
DTSTAMP:20260423T002812Z
UID:10-337589@shilohchurchofchrist.net
DTSTART:20261007T233000Z
DTEND:20261008T003000Z
CLASS:PUBLIC
CREATED:20260422T192647
DESCRIPTION:This is one of two mid-week bible studies we have.  The other 
 is on Wednesday morning at 10:00am.
LAST-MODIFIED:20260422T192647
LOCATION:Shiloh Church of Christ
SUMMARY:Wednesday Evening Bible Study
URL;VALUE=URI:https://www.shilohchurchofchrist.net/events/wednesday-evening
 -bible-study/2026-10-07
END:VEVENT
END:VCALENDAR
