BEGIN:VCALENDAR
VERSION:2.0
PRODID:icalendar-ruby
CALSCALE:GREGORIAN
METHOD:PUBLISH
BEGIN:VEVENT
DTSTAMP:20260423T080806Z
UID:10-337806@shilohchurchofchrist.net
DTSTART:20261105T003000Z
DTEND:20261105T013000Z
CLASS:PUBLIC
CREATED:20260422T222121
DESCRIPTION:This is one of two mid-week bible studies we have.  The other 
 is on Wednesday morning at 10:00am.
LAST-MODIFIED:20260422T222121
LOCATION:Shiloh Church of Christ
SUMMARY:Wednesday Evening Bible Study
URL;VALUE=URI:https://www.shilohchurchofchrist.net/events/wednesday-evening
 -bible-study/2026-11-04
END:VEVENT
END:VCALENDAR
