BEGIN:VCALENDAR
VERSION:2.0
PRODID:icalendar-ruby
CALSCALE:GREGORIAN
METHOD:PUBLISH
BEGIN:VEVENT
DTSTAMP:20260422T110451Z
UID:8-336412@shilohchurchofchrist.net
DTSTART:20260812T150000Z
DTEND:20260812T160000Z
CLASS:PUBLIC
CREATED:20260421T204113
DESCRIPTION:This is one of two mid-week bible studies we have on Wednesdays
 .  The other begins at 6:30pm.
LAST-MODIFIED:20260421T204113
LOCATION:Shiloh Church of Christ
SUMMARY:Wednesday Morning Bible Study
URL;VALUE=URI:https://www.shilohchurchofchrist.net/events/wednesday-morning
 -bible-study/2026-08-12
END:VEVENT
END:VCALENDAR
