BEGIN:VCALENDAR
VERSION:2.0
PRODID:icalendar-ruby
CALSCALE:GREGORIAN
METHOD:PUBLISH
BEGIN:VEVENT
DTSTAMP:20260422T141323Z
UID:8-336626@shilohchurchofchrist.net
DTSTART:20260826T150000Z
DTEND:20260826T160000Z
CLASS:PUBLIC
CREATED:20260422T075010
DESCRIPTION:This is one of two mid-week bible studies we have on Wednesdays
 .  The other begins at 6:30pm.
LAST-MODIFIED:20260422T075010
LOCATION:Shiloh Church of Christ
SUMMARY:Wednesday Morning Bible Study
URL;VALUE=URI:https://www.shilohchurchofchrist.net/events/wednesday-morning
 -bible-study/2026-08-26
END:VEVENT
END:VCALENDAR
