BEGIN:VCALENDAR
VERSION:2.0
PRODID:icalendar-ruby
CALSCALE:GREGORIAN
METHOD:PUBLISH
BEGIN:VEVENT
DTSTAMP:20260423T010931Z
UID:8-337482@shilohchurchofchrist.net
DTSTART:20261007T150000Z
DTEND:20261007T160000Z
CLASS:PUBLIC
CREATED:20260422T192647
DESCRIPTION:This is one of two mid-week bible studies we have on Wednesdays
 .  The other begins at 6:30pm.
LAST-MODIFIED:20260422T192647
LOCATION:Shiloh Church of Christ
SUMMARY:Wednesday Morning Bible Study
URL;VALUE=URI:https://www.shilohchurchofchrist.net/events/wednesday-morning
 -bible-study/2026-10-07
END:VEVENT
END:VCALENDAR
