BEGIN:VCALENDAR
VERSION:2.0
PRODID:icalendar-ruby
CALSCALE:GREGORIAN
METHOD:PUBLISH
BEGIN:VEVENT
DTSTAMP:20260423T050243Z
UID:8-337697@shilohchurchofchrist.net
DTSTART:20261021T150000Z
DTEND:20261021T160000Z
CLASS:PUBLIC
CREATED:20260422T222121
DESCRIPTION:This is one of two mid-week bible studies we have on Wednesdays
 .  The other begins at 6:30pm.
LAST-MODIFIED:20260422T222121
LOCATION:Shiloh Church of Christ
SUMMARY:Wednesday Morning Bible Study
URL;VALUE=URI:https://www.shilohchurchofchrist.net/events/wednesday-morning
 -bible-study/2026-10-21
END:VEVENT
END:VCALENDAR
